BEGIN:VCALENDAR
VERSION:2.0
PRODID:-//Atlanta Music Project - ECPv6.15.17.1//NONSGML v1.0//EN
CALSCALE:GREGORIAN
METHOD:PUBLISH
X-WR-CALNAME:Atlanta Music Project
X-ORIGINAL-URL:https://atlantamusicproject.org
X-WR-CALDESC:Events for Atlanta Music Project
REFRESH-INTERVAL;VALUE=DURATION:PT1H
X-Robots-Tag:noindex
X-PUBLISHED-TTL:PT1H
BEGIN:VTIMEZONE
TZID:America/New_York
BEGIN:DAYLIGHT
TZOFFSETFROM:-0500
TZOFFSETTO:-0400
TZNAME:EDT
DTSTART:20220313T070000
END:DAYLIGHT
BEGIN:STANDARD
TZOFFSETFROM:-0400
TZOFFSETTO:-0500
TZNAME:EST
DTSTART:20221106T060000
END:STANDARD
BEGIN:DAYLIGHT
TZOFFSETFROM:-0500
TZOFFSETTO:-0400
TZNAME:EDT
DTSTART:20230312T070000
END:DAYLIGHT
BEGIN:STANDARD
TZOFFSETFROM:-0400
TZOFFSETTO:-0500
TZNAME:EST
DTSTART:20231105T060000
END:STANDARD
BEGIN:DAYLIGHT
TZOFFSETFROM:-0500
TZOFFSETTO:-0400
TZNAME:EDT
DTSTART:20240310T070000
END:DAYLIGHT
BEGIN:STANDARD
TZOFFSETFROM:-0400
TZOFFSETTO:-0500
TZNAME:EST
DTSTART:20241103T060000
END:STANDARD
END:VTIMEZONE
BEGIN:VEVENT
DTSTART;TZID=America/New_York:20230217T190000
DTEND;TZID=America/New_York:20230217T200000
DTSTAMP:20260419T075113
CREATED:20221220T200505Z
LAST-MODIFIED:20230201T160844Z
UID:17976-1676660400-1676664000@atlantamusicproject.org
SUMMARY:Music of the African Diaspora Festival: AMP Afterschool Band & Orchestra
DESCRIPTION:The AMP Afterschool Band & Orchestra\, in partnership with the City of Atlanta Department of Parks & Recreation\, will perform music composed\, arranged or made popular by artists from Africa and the African Diaspora. Concert begins at 7:00 PM.
URL:https://atlantamusicproject.org/event/after-school-orchestra-african-diaspora/
LOCATION:Atlanta Music Project Center for Performance & Education\, 883 Dill Ave SW\, Atlanta\, GA\, 30310\, United States
ATTACH;FMTTYPE=image/jpeg:https://atlantamusicproject.org/wp-content/uploads/2022/12/afterschool_eventbrite.jpg
END:VEVENT
END:VCALENDAR