BEGIN:VCALENDAR
VERSION:2.0
PRODID:-//Atlanta Music Project - ECPv6.15.17.1//NONSGML v1.0//EN
CALSCALE:GREGORIAN
METHOD:PUBLISH
X-WR-CALNAME:Atlanta Music Project
X-ORIGINAL-URL:https://atlantamusicproject.org
X-WR-CALDESC:Events for Atlanta Music Project
REFRESH-INTERVAL;VALUE=DURATION:PT1H
X-Robots-Tag:noindex
X-PUBLISHED-TTL:PT1H
BEGIN:VTIMEZONE
TZID:America/New_York
BEGIN:DAYLIGHT
TZOFFSETFROM:-0500
TZOFFSETTO:-0400
TZNAME:EDT
DTSTART:20220313T070000
END:DAYLIGHT
BEGIN:STANDARD
TZOFFSETFROM:-0400
TZOFFSETTO:-0500
TZNAME:EST
DTSTART:20221106T060000
END:STANDARD
BEGIN:DAYLIGHT
TZOFFSETFROM:-0500
TZOFFSETTO:-0400
TZNAME:EDT
DTSTART:20230312T070000
END:DAYLIGHT
BEGIN:STANDARD
TZOFFSETFROM:-0400
TZOFFSETTO:-0500
TZNAME:EST
DTSTART:20231105T060000
END:STANDARD
BEGIN:DAYLIGHT
TZOFFSETFROM:-0500
TZOFFSETTO:-0400
TZNAME:EDT
DTSTART:20240310T070000
END:DAYLIGHT
BEGIN:STANDARD
TZOFFSETFROM:-0400
TZOFFSETTO:-0500
TZNAME:EST
DTSTART:20241103T060000
END:STANDARD
END:VTIMEZONE
BEGIN:VEVENT
DTSTART;TZID=America/New_York:20230621T080000
DTEND;TZID=America/New_York:20230621T170000
DTSTAMP:20260422T083225
CREATED:20230504T183218Z
LAST-MODIFIED:20230621T141658Z
UID:18363-1687334400-1687366800@atlantamusicproject.org
SUMMARY:AMP Summer Series Choirs Final Concert
DESCRIPTION:AMP Summer Series Choirs Final Concert
URL:https://atlantamusicproject.org/event/amp-summer-series-choirs-final-concert/
LOCATION:Sylvan Hills Middle School\, 1461 Sylvan Rd SW\, Atlanta\, GA\, 30310\, United States
END:VEVENT
END:VCALENDAR